BEGIN:VCALENDAR
VERSION:2.0
PRODID:-//wp-events-plugin.com//7.2.3.1//EN
TZID:America/New_York
X-WR-TIMEZONE:America/New_York
BEGIN:VEVENT
UID:418@areyvut.org
DTSTART;TZID=America/New_York;VALUE=DATE:20120819
DTEND;TZID=America/New_York;VALUE=DATE:20120820
DTSTAMP:20171101T035503Z
URL:https://areyvut.org/events/youthcon-2012/
SUMMARY:YouthCon 2012
DESCRIPTION:Sunday\, August 19\, 2012\n\nAreyvut will be attending YouthCon
  2012. If you are attending the conference and are interested in learning 
 about how you can bring Areyvut back to your school\, synagogue and commun
 ity please e-mail us at info@areyvut.org to schedule a time to meet with u
 s. We look forward to meeting and to sharing our expertise and experience.
 \n\nIf you are unable to attend the conference\, but would still like info
 rmation about bringing Areyvut to your school and community\, please conta
 ct us at (201) 244-6702 or info@areyvut.org.
CATEGORIES:Presentations &amp; Workshops
END:VEVENT
BEGIN:VTIMEZONE
TZID:America/New_York
X-LIC-LOCATION:America/New_York
BEGIN:DAYLIGHT
DTSTART:20120311T030000
TZOFFSETFROM:-0500
TZOFFSETTO:-0400
TZNAME:EDT
END:DAYLIGHT
END:VTIMEZONE
END:VCALENDAR