BEGIN:VCALENDAR
VERSION:2.0
PRODID:-//wp-events-plugin.com//7.2.3.1//EN
TZID:America/New_York
X-WR-TIMEZONE:America/New_York
BEGIN:VEVENT
UID:438@areyvut.org
DTSTART;TZID=America/New_York;VALUE=DATE:20120325
DTEND;TZID=America/New_York;VALUE=DATE:20120328
DTSTAMP:20171103T150829Z
URL:https://areyvut.org/events/tribefest-2012/
SUMMARY:Tribefest 2012
DESCRIPTION:Sunday\, March 25\, 2012\n\nSharon Stahl\, Areyvut's Special Pr
 oject Coordinator\, will be attending Tribefest in Las Vegas. If you are a
 ttending the conference and are interested in learning how to bring Areyvu
 t programming back to your Federation and community\, please e-mail us at 
 info@areyvut.org to schedule a time to meet with Sharon. We hope you enjoy
  the conference and avail yourself of this great opportunity.\n\nIf you ar
 e unable to attend the conference\, but would still like information about
  bring Areyvut to your Federation and community\, please contact us at (20
 1) 244-6702 or info@areyvut.org.
CATEGORIES:Presentations &amp; Workshops
END:VEVENT
BEGIN:VTIMEZONE
TZID:America/New_York
X-LIC-LOCATION:America/New_York
BEGIN:DAYLIGHT
DTSTART:20120311T030000
TZOFFSETFROM:-0500
TZOFFSETTO:-0400
TZNAME:EDT
END:DAYLIGHT
END:VTIMEZONE
END:VCALENDAR