BEGIN:VCALENDAR
VERSION:2.0
PRODID:-//wp-events-plugin.com//7.2.3.1//EN
TZID:America/New_York
X-WR-TIMEZONE:America/New_York
BEGIN:VEVENT
UID:401@areyvut.org
DTSTART;TZID=America/New_York:20130220T120000
DTEND;TZID=America/New_York:20130220T163000
DTSTAMP:20171031T001012Z
URL:https://areyvut.org/events/touro-college-career-fair/
SUMMARY:Touro College Career Fair
DESCRIPTION:Wednesday\, February 20\, 2013\n\nAreyvut will be attending the
  Touro College Career Fair! If you are interested in applying for Areyvut'
 s Summer Internship Program\, this is a great place to meet and speak with
  an Areyvut representative to learn more about this opportunity.\n\nDate: 
 Feb. 20\n\nTime: 12 - 4:30pm\n\nLocation: Touro College - Lander College f
 or Women\n227 West 60th St. * New York\, NY * 10023\n\nFor more informatio
 n about Areyvut's Summer Internship Program\, please contact us at (201) 2
 44-6702 or sharon@areyvut.org.
CATEGORIES:Chesed Fairs
LOCATION:Touro College - Lander College for Women\, 227 West 60th St.\, New
  York\, NY\, United States
GEO:40.77172470000001;-73.9885246
X-APPLE-STRUCTURED-LOCATION;VALUE=URI;X-ADDRESS=227 West 60th St.\, New Yor
 k\, NY\, United States;X-APPLE-RADIUS=100;X-TITLE=Touro College - Lander C
 ollege for Women:geo:40.77172470000001,-73.9885246
END:VEVENT
BEGIN:VTIMEZONE
TZID:America/New_York
X-LIC-LOCATION:America/New_York
BEGIN:STANDARD
DTSTART:20121104T010000
TZOFFSETFROM:-0400
TZOFFSETTO:-0500
TZNAME:EST
END:STANDARD
END:VTIMEZONE
END:VCALENDAR