BEGIN:VCALENDAR
VERSION:2.0
PRODID:-//wp-events-plugin.com//7.2.3.1//EN
TZID:America/New_York
X-WR-TIMEZONE:America/New_York
BEGIN:VEVENT
UID:480@areyvut.org
DTSTART;TZID=America/New_York:20110302T183000
DTEND;TZID=America/New_York:20110302T200000
DTSTAMP:20171107T151158Z
URL:https://areyvut.org/events/tolerance-temple-emanu-el/
SUMMARY:Tolerance @ Temple Emanu-El
DESCRIPTION:Wednesday\, March 2\, 2011\n\nDaniel Rothner\, Areyvut's Founde
 r and Director\, will be working with high school students at Temple Emanu
 -El in Closter\, NJ. He will be speaking with them about tolerance and exp
 loring what tolerance means to them and providing concrete ways they can i
 ncorporate what they learn to help others\, build a caring community and a
 ctively make a difference in the community.\n\nDate: March 2\nTime: 6:30-8
 :00pm\nLocation: Temple Emanu-El\n180 Piermont Road\nCloster\, New Jersey 
 07624\n\nFor more information about this program\, or to bring Areyvut to 
 your community\, please contact us at (201) 244-6702 or info@areyvut.org.
CATEGORIES:Presentations &amp; Workshops
LOCATION:Temple Emanu-El\, 180 Piermont Road\, Closter\, NJ\, 07624\, Unite
 d States
X-APPLE-STRUCTURED-LOCATION;VALUE=URI;X-ADDRESS=180 Piermont Road\, Closter
 \, NJ\, 07624\, United States;X-APPLE-RADIUS=100;X-TITLE=Temple Emanu-El:g
 eo:0,0
END:VEVENT
BEGIN:VTIMEZONE
TZID:America/New_York
X-LIC-LOCATION:America/New_York
BEGIN:STANDARD
DTSTART:20101107T010000
TZOFFSETFROM:-0400
TZOFFSETTO:-0500
TZNAME:EST
END:STANDARD
END:VTIMEZONE
END:VCALENDAR