BEGIN:VCALENDAR
VERSION:2.0
PRODID:-//wp-events-plugin.com//7.2.3.1//EN
TZID:America/New_York
X-WR-TIMEZONE:America/New_York
BEGIN:VEVENT
UID:594@areyvut.org
DTSTART;TZID=America/New_York:20180503T090000
DTEND;TZID=America/New_York:20180503T160000
DTSTAMP:20180514T182035Z
URL:https://areyvut.org/events/small-business-expo-2018-nyc/
SUMMARY:Small Business Expo 2018 NYC
DESCRIPTION:Daniel Rothner\, Areyvut's Founder &amp\; Director is attending
  the 2018 New York City Small Business Expo.  He is available to meet to 
 discuss ways to work together and to bring Areyvut's community unity progr
 ams to your business.  Daniel is happy to discuss You Matter cards\, hand
 s on projects and a Tikkun Olam Tour and how you can use these to build yo
 ur business and impact your staff\, colleagues and community.\n\nTo set a 
 time to meet with Daniel and/or to invite him to come to your business ple
 ase e-mail daniel@areyvut.org or call 201-244-6702.
CATEGORIES:Presentations &amp; Workshops
LOCATION:Jacob K. Javits Convention Center\, 655 W. 34th Street\, New York\
 , NY\, 10001\, United States
GEO:40.7575505;-74.00246909999998
X-APPLE-STRUCTURED-LOCATION;VALUE=URI;X-ADDRESS=655 W. 34th Street\, New Yo
 rk\, NY\, 10001\, United States;X-APPLE-RADIUS=100;X-TITLE=Jacob K. Javits
  Convention Center:geo:40.7575505,-74.00246909999998
END:VEVENT
BEGIN:VTIMEZONE
TZID:America/New_York
X-LIC-LOCATION:America/New_York
BEGIN:DAYLIGHT
DTSTART:20180311T030000
TZOFFSETFROM:-0500
TZOFFSETTO:-0400
TZNAME:EDT
END:DAYLIGHT
END:VTIMEZONE
END:VCALENDAR