BEGIN:VCALENDAR
VERSION:2.0
PRODID:-//wp-events-plugin.com//7.2.3.1//EN
TZID:America/New_York
X-WR-TIMEZONE:America/New_York
BEGIN:VEVENT
UID:13@areyvut.org
DTSTART;TZID=America/New_York:20140112T100000
DTEND;TZID=America/New_York:20140112T113000
DTSTAMP:20170923T004057Z
URL:https://areyvut.org/events/putting-the-mitzvah-back-in-bar-bat-mitzvah
 /
SUMMARY:Putting the Mitzvah Back in Bar & Bat Mitzvah
DESCRIPTION:Sunday\, January 12\, 2014\n\nMichal Levine\, Areyvut's Program
  Associate\, will be working with 6th graders and their parents at Congreg
 ation Beth Chaim in Princeton Junction\, NJ. She will be speaking with the
 m about Mitzvah Projects and ways in which the students and their families
  can use their Bnai Mitzvah celebrations to help others\, be inspired to m
 ake a difference in the community and connect with Judaism in a new way.\n
 \nDate: January 12\nTime: 10:00am-11:30am\nLocation: Congregation Beth Cha
 im\n329 Village Road East\nPrinceton Junction\, NJ 08550\n\nFor more infor
 mation about this program\, or to bring Areyvut to engage and empower your
  community\, please contact us at (201) 244-6702 or info@areyvut.org.
CATEGORIES:Mitzvah Projects
LOCATION:Congregation Beth Chaim\, 329 Village Road East\, Princeton Juncti
 on\, NJ\, 08550\, United States
X-APPLE-STRUCTURED-LOCATION;VALUE=URI;X-ADDRESS=329 Village Road East\, Pri
 nceton Junction\, NJ\, 08550\, United States;X-APPLE-RADIUS=100;X-TITLE=Co
 ngregation Beth Chaim:geo:0,0
END:VEVENT
BEGIN:VTIMEZONE
TZID:America/New_York
X-LIC-LOCATION:America/New_York
BEGIN:STANDARD
DTSTART:20131103T010000
TZOFFSETFROM:-0400
TZOFFSETTO:-0500
TZNAME:EST
END:STANDARD
END:VTIMEZONE
END:VCALENDAR