BEGIN:VCALENDAR
VERSION:2.0
PRODID:-//wp-events-plugin.com//7.2.3.1//EN
TZID:America/New_York
X-WR-TIMEZONE:America/New_York
BEGIN:VEVENT
UID:159@areyvut.org
DTSTART;TZID=America/New_York;VALUE=DATE:20170727
DTEND;TZID=America/New_York;VALUE=DATE:20170728
DTSTAMP:20171008T223553Z
URL:https://areyvut.org/events/mitzvah-clowning-with-moshava-bair/
SUMMARY:Mitzvah Clowning with Moshava Ba'ir
DESCRIPTION:Thursday\, July 27\, 2017\n\nAreyvut is excited to once again r
 eturn to Moshava Ba'ir to run a program as part of Chesed Week. On Thursda
 y\, July 27\, Areyvut will run a Mitzvah Clown training for 55 5th-7th gra
 de participants. Immediately following the training participants will put 
 into action what they learned and bring joy and cheer to the residents at 
 the Jewish Home at Rockleigh.\n\nTo bring Areyvut to your camp or communit
 y please contact us at 201-244-6702 or via e-mail at info@areyvut.org.
CATEGORIES:Mitzvah Clowning
LOCATION:Jewish Home at Rockleigh\, 10 Link Drive\, Rockleigh\, NJ\, 07647\
 , United States
X-APPLE-STRUCTURED-LOCATION;VALUE=URI;X-ADDRESS=10 Link Drive\, Rockleigh\,
  NJ\, 07647\, United States;X-APPLE-RADIUS=100;X-TITLE=Jewish Home at Rock
 leigh:geo:0,0
END:VEVENT
BEGIN:VTIMEZONE
TZID:America/New_York
X-LIC-LOCATION:America/New_York
BEGIN:DAYLIGHT
DTSTART:20170312T030000
TZOFFSETFROM:-0500
TZOFFSETTO:-0400
TZNAME:EDT
END:DAYLIGHT
END:VTIMEZONE
END:VCALENDAR