BEGIN:VCALENDAR
VERSION:2.0
PRODID:-//wp-events-plugin.com//7.2.3.1//EN
TZID:America/New_York
X-WR-TIMEZONE:America/New_York
BEGIN:VEVENT
UID:427@areyvut.org
DTSTART;TZID=America/New_York;VALUE=DATE:20120510
DTEND;TZID=America/New_York;VALUE=DATE:20120511
DTSTAMP:20171103T031217Z
URL:https://areyvut.org/events/lag-bomer/
SUMMARY:Lag B'Omer
DESCRIPTION:Thursday\, May 10\, 2012\n\nBring treats and snacks to a bonfir
 e to share with friends\n\nOrganize a celebratory bonfire for children in 
 a hospital or seniors living in a nursing facility\n\n
CATEGORIES:A Kindness A Day
END:VEVENT
BEGIN:VTIMEZONE
TZID:America/New_York
X-LIC-LOCATION:America/New_York
BEGIN:DAYLIGHT
DTSTART:20120311T030000
TZOFFSETFROM:-0500
TZOFFSETTO:-0400
TZNAME:EDT
END:DAYLIGHT
END:VTIMEZONE
END:VCALENDAR