BEGIN:VCALENDAR
VERSION:2.0
PRODID:-//wp-events-plugin.com//7.2.3.1//EN
TZID:America/New_York
X-WR-TIMEZONE:America/New_York
BEGIN:VEVENT
UID:660@areyvut.org
DTSTART;TZID=America/New_York:20200401T180000
DTEND;TZID=America/New_York:20200401T190000
DTSTAMP:20200329T003832Z
URL:https://areyvut.org/events/infusing-your-passover-seder-with-meaningfu
 l-moments/
SUMMARY:Infusing Your Passover Seder with Meaningful Moments
DESCRIPTION:Due to COVID-19 and the Coronavirus pandemic this and all in pe
 rson programs have been canceled or postponed until further notice. A wid
 e array of resources are available at http://bit.ly/2wU5CTS. \n\nBuildin
 g on the success of our initial presentation in October over Succot on Gra
 ppling with Ethical Issues with a Jewish Lens\, Temple Emanuel of the Pasc
 ack Valley has developed a new series for their teens with Areyvut.\n\nThi
 s session will address Infusing Your Passover (Pesach) Seder with Meaningf
 ul Moments and will focus on conversation starters and explore questions t
 hat can meaningfully contribute to the seder\, Passover experience and cre
 ate memories to last a lifetime.  The goal is for the teen participants 
 to realize the many ways that they can actively contribute to their famili
 es celebrations and to emerge with a new perspective on the Passover Seder
 .\n\nThe final session of this series will be held on April 1 and. June 3\
 n\nTo explore bringing Areyvut to present to the teens in your school\, sy
 nagogue or community please contact us at (201) 244-6702 or info@areyvut.
 org.
CATEGORIES:Presentations &amp; Workshops
LOCATION:Temple Emanuel of the Pascack Valley\, 87 Overlook Drive\, Woodcli
 ff Lake\, NJ\, 07677\, United States
GEO:41.0193597;-74.0724667
X-APPLE-STRUCTURED-LOCATION;VALUE=URI;X-ADDRESS=87 Overlook Drive\, Woodcli
 ff Lake\, NJ\, 07677\, United States;X-APPLE-RADIUS=100;X-TITLE=Temple Ema
 nuel of the Pascack Valley:geo:41.0193597,-74.0724667
END:VEVENT
BEGIN:VTIMEZONE
TZID:America/New_York
X-LIC-LOCATION:America/New_York
BEGIN:DAYLIGHT
DTSTART:20200308T030000
TZOFFSETFROM:-0500
TZOFFSETTO:-0400
TZNAME:EDT
END:DAYLIGHT
END:VTIMEZONE
END:VCALENDAR