BEGIN:VCALENDAR
VERSION:2.0
PRODID:-//wp-events-plugin.com//7.2.3.1//EN
TZID:America/New_York
X-WR-TIMEZONE:America/New_York
BEGIN:VEVENT
UID:471@areyvut.org
DTSTART;TZID=America/New_York:20110401T110000
DTEND;TZID=America/New_York:20110401T140000
DTSTAMP:20171107T143123Z
URL:https://areyvut.org/events/areyvut-yeshiva-university-career-fair/
SUMMARY:Areyvut @ Yeshiva University Career Fair
DESCRIPTION:Friday\, April 1\, 2011\n\nAreyvut will be attending the Yeshiv
 a University Career and Internship Fair on April 1st. We are continuing ou
 r search for summer interns to join our internship program. Interested app
 licants attending Yeshiva University or Stern College are encouraged to at
 tend this fair.\n\nDate: Friday\, April 1\nTime: 11:00am - 2:00pm\nLocatio
 n: Yeshiva University - Belfer Hall\n2495 Amsterdam Avenue\n\nFor more inf
 ormation about the Areyvut Summer Internship\, please contact us at (201) 
 244-6702 or info@areyvut.org.
CATEGORIES:Presentations &amp; Workshops
LOCATION:Yeshiva University - Belfer Hall\, 2495 Amsterdam Avenue\, New Yor
 k\, NY\, United States
GEO:40.849581;-73.929194
X-APPLE-STRUCTURED-LOCATION;VALUE=URI;X-ADDRESS=2495 Amsterdam Avenue\, New
  York\, NY\, United States;X-APPLE-RADIUS=100;X-TITLE=Yeshiva University -
  Belfer Hall:geo:40.849581,-73.929194
END:VEVENT
BEGIN:VTIMEZONE
TZID:America/New_York
X-LIC-LOCATION:America/New_York
BEGIN:DAYLIGHT
DTSTART:20110313T030000
TZOFFSETFROM:-0500
TZOFFSETTO:-0400
TZNAME:EDT
END:DAYLIGHT
END:VTIMEZONE
END:VCALENDAR