BEGIN:VCALENDAR
VERSION:2.0
PRODID:-//wp-events-plugin.com//7.2.3.1//EN
TZID:America/New_York
X-WR-TIMEZONE:America/New_York
BEGIN:VEVENT
UID:827@areyvut.org
DTSTART;TZID=America/New_York:20231010T183000
DTEND;TZID=America/New_York:20231010T203000
DTSTAMP:20231022T030628Z
URL:https://areyvut.org/events/a-community-solidarity-gathering-for-israel
 /
SUMMARY:A CommUNITY Solidarity Gathering for Israel
DESCRIPTION:The events of the last few days have left us in deep pain as we
  watched innocent Israelis murdered in cold blood and many women\, childre
 n\, elderly\, and soldiers taken hostage by the Hamas terrorists.\n\nThe n
 orthern New Jersey Jewish commUNITY unite to support the Israeli people an
 d mourns the tragic loss of life.\n\nPlease keep the people of Israel in y
 our hearts and minds and pray for the safety of our beloved Israeli family
 .\n\nThere will be a security checkpoint.  No bags or weapons will be per
 mitted.  Carpooling is suggested due to limited parking.\n\nPlease note t
 hat Areyvut passionately supports every Israel event\, program and resourc
 e that we post at this time.  To have us list your event\, please e-mail 
 us at info@areyvut.org and provide us with all the necessary information.
   Am Yisrael Chai.\n\n&nbsp\;\n\n\n\n\n\n\n\n\n\n\n\n\n\n\n\n\n\n\n\n\n\n
 \n\n\n
CATEGORIES:Am Yisrael Chai,CommUNITY Event
LOCATION:Kaplen JCC on the Palisades\, 411 East Clinton Ave\, Tenafly\, NJ\
 , United States
GEO:40.9121953;-73.94426679999998
X-APPLE-STRUCTURED-LOCATION;VALUE=URI;X-ADDRESS=411 East Clinton Ave\, Tena
 fly\, NJ\, United States;X-APPLE-RADIUS=100;X-TITLE=Kaplen JCC on the Pali
 sades:geo:40.9121953,-73.94426679999998
END:VEVENT
BEGIN:VTIMEZONE
TZID:America/New_York
X-LIC-LOCATION:America/New_York
BEGIN:DAYLIGHT
DTSTART:20230312T030000
TZOFFSETFROM:-0500
TZOFFSETTO:-0400
TZNAME:EDT
END:DAYLIGHT
END:VTIMEZONE
END:VCALENDAR