BEGIN:VCALENDAR
VERSION:2.0
PRODID:-//wp-events-plugin.com//7.2.3.1//EN
TZID:America/New_York
X-WR-TIMEZONE:America/New_York
BEGIN:VEVENT
UID:832@areyvut.org
DTSTART;TZID=America/New_York:20231019T190000
DTEND;TZID=America/New_York:20231022T220000
DTSTAMP:20231022T051317Z
URL:https://areyvut.org/events/75-for-75/
SUMMARY:75 For 75
DESCRIPTION:Join together with Jews around the world to make a massive siyu
 m in 75 hours of Torah learning\, mitzvot and prayer!\n\nSign up for a lea
 rning commitment and a time slot during the 75 hours to help make a massiv
 e siyum as a YU Global Community at https://www.yu.edu/75for75.\n\nPlease 
 share the above link with all of your friends\, family\, colleagues\, your
  synagogue\, school and commUNITY.\n\nThe 75 hours effort begins Thursday\
 , October 19th at 7:00 PM and runs through Sunday\, October 22nd at 10:00 
 PM.\n\n75 Hours will include a Siyum HaShas\, Siyum Mishnayos and Siyum Ta
 nach and will unite Jews throughout the world in support of Israel.\n\nPle
 ase note that Areyvut passionately supports every Israel event\, program a
 nd resource that we post at this time.  To have us list your event\, plea
 se e-mail us at info@areyvut.org and provide us with all the necessary i
 nformation.  Am Yisrael Chai.\n\n
CATEGORIES:Am Yisrael Chai,CommUNITY Event
END:VEVENT
BEGIN:VTIMEZONE
TZID:America/New_York
X-LIC-LOCATION:America/New_York
BEGIN:DAYLIGHT
DTSTART:20230312T030000
TZOFFSETFROM:-0500
TZOFFSETTO:-0400
TZNAME:EDT
END:DAYLIGHT
END:VTIMEZONE
END:VCALENDAR