BEGIN:VCALENDAR
VERSION:2.0
PRODID:-//wp-events-plugin.com//7.2.3.1//EN
TZID:America/New_York
X-WR-TIMEZONE:America/New_York
BEGIN:VEVENT
UID:116@areyvut.org
DTSTART;TZID=America/New_York:20160808T090000
DTEND;TZID=America/New_York:20160812T160000
DTSTAMP:20171006T001351Z
URL:https://areyvut.org/events/5-days5-ways-areyvuts-first-annual-chesed-c
 amp/
SUMMARY:5 Days/5 Ways- Areyvut's First Annual Chesed Camp
DESCRIPTION:Monday\, August 8\, 2016\n\nPlease join us for 5 Days/5 Ways\, 
 our first Annual Chesed Camp!\n\nAll students entering Middle School (that
 's incoming 6th\, 7th and 8th graders) are invited to participate in a wee
 k-long camp where we will travel around to different sites each day bringi
 ng joy and spreading kindness to those in need. 5 Days/5 Ways is a coed pr
 ogram. It promises to be a fun\, meaningful and engaging camp that will la
 st well beyond the summer.\n\nLearn how to be a Mitzvah Clown and bring a 
 smile to people's faces! Help clean trails and beautify and protect the en
 vironment! Read to younger children and bring the joy of books to others! 
 Camp will meet each day from 9:00 to 4:00. We are pleased that camp will b
 e based at Friends of Lubavitch of Bergen County (the Chabad of Teaneck) l
 ocated at 513 Kenwood Place and we thank them for their partnership.\n\nEa
 ch day will have a theme and throughout the week participants will volunte
 er for\, do hands on projects to benefit and interact with more than 15 lo
 cal and Israel based agencies. The themes for 5 Days/5 Ways will be:\n\nMo
 nday: Hunger and Poverty\nTuesday: Israel\nWednesday: Caring for the Sick 
 and Elderly\nThursday: The Environment\nFriday: Intergenerational Understa
 nding\n\nTo get a sense of the activities please click here to see a Sampl
 e Day.\n\nTo reserve a spot for your child please complete this form and s
 end in a check for $360 made payable to Areyvut. Checks can be sent to:\n\
 n147 South Washington Avenue\nBergenfield\, NJ 07621\n\nPlease note that t
 o make 5 Days/5 Ways viable and meaningful for all those involved we need 
 to have a core group. In the event that we don't have enough participants 
 we will let you know.\n\nAny cancellations before July 15 will receive $30
 0 back and after that time no refunds will be given.\n\nThe program will l
 ed by Alisa Danon Kaplan and Daniel Rothner\, seasoned educators who betwe
 en them have over 40 years of experience in planning\, facilitating and im
 plementing such programs.\n\nBy participating in this program you give Are
 yvut permission to post pictures or video clips on the Areyvut website\, s
 ocial media channels and to use for PR purposes.\n\nThe online registratio
 n is for those who want to support this unique and important camp. All spo
 nsors are greatly appreciated and their partnership will facilitate this i
 mportant program.\n\nFor more information\, please contact Daniel Rothner\
 , Areyvut\, Founder &amp\; Director at daniel@areyvut.org or 201-244-6702.
CATEGORIES:Summer Programs
LOCATION:Friends of Lubavitch of Bergen County\, 513 Kenwood Place\, Teanec
 k\, NJ\, United States
X-APPLE-STRUCTURED-LOCATION;VALUE=URI;X-ADDRESS=513 Kenwood Place\, Teaneck
 \, NJ\, United States;X-APPLE-RADIUS=100;X-TITLE=Friends of Lubavitch of B
 ergen County:geo:0,0
END:VEVENT
BEGIN:VTIMEZONE
TZID:America/New_York
X-LIC-LOCATION:America/New_York
BEGIN:DAYLIGHT
DTSTART:20160313T030000
TZOFFSETFROM:-0500
TZOFFSETTO:-0400
TZNAME:EDT
END:DAYLIGHT
END:VTIMEZONE
END:VCALENDAR