BEGIN:VCALENDAR
VERSION:2.0
PRODID:-//wp-events-plugin.com//7.2.3.1//EN
TZID:America/New_York
X-WR-TIMEZONE:America/New_York
BEGIN:VEVENT
UID:689@areyvut.org
DTSTART;TZID=America/New_York:20200602T000000
DTEND;TZID=America/New_York:20200602T000000
DTSTAMP:20200306T190308Z
URL:https://areyvut.org/events/2020-global-jewish-unity-day/
SUMMARY:2020 Global Jewish Unity Day
DESCRIPTION:How can we respond to tragedy?\n\nOn June 3\, 2014\, it was dis
 covered that Eyal Yifrach\, Gilad Shaar\, and Naftali Frankel had lost the
 ir lives. One way to respond to tragedy is through engaging in acts of kin
 dness. Join Areyvut on June 3 on Eyal\, Gilad and Naftali’s yahrzeit\, t
 o show unity among the Jewish people.\n\nWe are planning a Tikkun Olam Tou
 r that will enable participants to give of themselves and work together on
  various hands-on chesed projects. We hope that by both learning about and
  actively participating in chesed opportunities\, we will be able to memor
 ialize Eyal\, Gilad and Naftali by helping to make this world a better pla
 ce.\n\nThe details and schedule will be posted shortly.\n\nShould you have
  any questions\, please feel free to contact us at 201-244-6702 or info@ar
 eyvut.org.
CATEGORIES:Chesed Fairs,Tikkun Olam Tours
END:VEVENT
BEGIN:VTIMEZONE
TZID:America/New_York
X-LIC-LOCATION:America/New_York
BEGIN:DAYLIGHT
DTSTART:20200308T030000
TZOFFSETFROM:-0500
TZOFFSETTO:-0400
TZNAME:EDT
END:DAYLIGHT
END:VTIMEZONE
END:VCALENDAR