BEGIN:VCALENDAR
VERSION:2.0
PRODID:-//wp-events-plugin.com//7.2.3.1//EN
TZID:America/New_York
X-WR-TIMEZONE:America/New_York
BEGIN:VEVENT
UID:60@areyvut.org
DTSTART;TZID=America/New_York;VALUE=DATE:20141129
DTEND;TZID=America/New_York;VALUE=DATE:20141130
DTSTAMP:20170930T215351Z
URL:https://areyvut.org/events/2014-small-business-saturday/
SUMMARY:2014 Small Business Saturday
DESCRIPTION:Saturday\, November 29\, 2014\n\nSmall Business Saturday is tha
 t day between Black Friday and Cyber Monday. It's a day where you can get 
 out\, shop locally and support a small business (or in our case\, nonprofi
 t)...like us!\n\nAmerican Express hosts Small Business Saturday and it can
  benefit both you and Areyvut. Donate $30 to Areyvut using your AMEX card 
 on November 29th and AMEX will credit your account on your next statement.
  You can give as much as you would like and can earmark it for general ope
 rating expenses or for a particular program but please note that you will 
 only get a credit for $30 from AMEX. Follow these steps to participate:\n\
 nStep 1: Enroll Your Card\n\nClick here to enroll your American Express Ca
 rd for Small Business Saturday.\n\nStep #2: Charge Your Card\n\nOn Saturda
 y donate the first $30 you spend on your enrolled American Express Card go
  towards Areyvut at no cost to you.\nIt's just that simple. Don't believe 
 us?\nAmerican Express can explain it even better.\nStill have questions ab
 out Areyvut and Small Business Saturday? Want to learn more about Areyvut 
 programs? Contact us at info@areyvut.org or (201) 244-6702.
CATEGORIES:Fundraisers
END:VEVENT
BEGIN:VTIMEZONE
TZID:America/New_York
X-LIC-LOCATION:America/New_York
BEGIN:STANDARD
DTSTART:20141102T010000
TZOFFSETFROM:-0400
TZOFFSETTO:-0500
TZNAME:EST
END:STANDARD
END:VTIMEZONE
END:VCALENDAR